BEGIN:VCALENDAR
VERSION:2.0
PRODID:-//Lake Macquarie Freemasons - ECPv5.3.2.1//NONSGML v1.0//EN
CALSCALE:GREGORIAN
METHOD:PUBLISH
X-WR-CALNAME:Lake Macquarie Freemasons
X-ORIGINAL-URL:https://lakemacquarie243.com.au
X-WR-CALDESC:Events for Lake Macquarie Freemasons
BEGIN:VTIMEZONE
TZID:Australia/Sydney
BEGIN:STANDARD
TZOFFSETFROM:+1100
TZOFFSETTO:+1000
TZNAME:AEST
DTSTART:20150404T160000
END:STANDARD
BEGIN:DAYLIGHT
TZOFFSETFROM:+1000
TZOFFSETTO:+1100
TZNAME:AEDT
DTSTART:20151003T160000
END:DAYLIGHT
END:VTIMEZONE
BEGIN:VEVENT
DTSTART;TZID=Australia/Sydney:20150711T190000
DTEND;TZID=Australia/Sydney:20150711T220000
DTSTAMP:20210226T180520
CREATED:20150706T024422Z
LAST-MODIFIED:20150706T024422Z
UID:369-1436641200-1436652000@lakemacquarie243.com.au
SUMMARY:This meeting Wor. Bro Ted Hyland will deliver the First Tracing Board for our newest member Bro Desmond Gill.
DESCRIPTION:
URL:https://lakemacquarie243.com.au/event/this-meeting-wor-bro-ted-hyland-will-deliver-the-first-tracing-board-for-our-newest-member-bro-desmond-gill/
LOCATION:Toronto Masonic Centre\, The Boulevard \, Toronto\, NSW\, 2283\, Australia
END:VEVENT
END:VCALENDAR