BEGIN:VCALENDAR
VERSION:2.0
PRODID:-//Lake Macquarie Freemasons - ECPv5.3.2.1//NONSGML v1.0//EN
CALSCALE:GREGORIAN
METHOD:PUBLISH
X-WR-CALNAME:Lake Macquarie Freemasons
X-ORIGINAL-URL:https://lakemacquarie243.com.au
X-WR-CALDESC:Events for Lake Macquarie Freemasons
BEGIN:VTIMEZONE
TZID:Australia/Sydney
BEGIN:STANDARD
TZOFFSETFROM:+1100
TZOFFSETTO:+1000
TZNAME:AEST
DTSTART:20150404T160000
END:STANDARD
BEGIN:DAYLIGHT
TZOFFSETFROM:+1000
TZOFFSETTO:+1100
TZNAME:AEDT
DTSTART:20151003T160000
END:DAYLIGHT
END:VTIMEZONE
BEGIN:VEVENT
DTSTART;TZID=Australia/Sydney:20150527T190000
DTEND;TZID=Australia/Sydney:20150527T210000
DTSTAMP:20210226T181253
CREATED:20150503T071754Z
LAST-MODIFIED:20150503T071754Z
UID:313-1432753200-1432760400@lakemacquarie243.com.au
SUMMARY:R A Chapter Monthly Meeting
DESCRIPTION:Cardiff Speers Point R.A. Chapter will be holding there monthly meeting. Work for the evening will be The Degree of Excellent Master
URL:https://lakemacquarie243.com.au/event/r-a-chapter-monthly-meeting/
LOCATION:Toronto Masonic Centre\, The Boulevard \, Toronto\, NSW\, 2283\, Australia
END:VEVENT
END:VCALENDAR