BEGIN:VCALENDAR
VERSION:2.0
PRODID:-//Lake Macquarie Freemasons - ECPv5.3.2.1//NONSGML v1.0//EN
CALSCALE:GREGORIAN
METHOD:PUBLISH
X-WR-CALNAME:Lake Macquarie Freemasons
X-ORIGINAL-URL:https://lakemacquarie243.com.au
X-WR-CALDESC:Events for Lake Macquarie Freemasons
BEGIN:VTIMEZONE
TZID:Australia/Sydney
BEGIN:STANDARD
TZOFFSETFROM:+1100
TZOFFSETTO:+1000
TZNAME:AEST
DTSTART:20150404T160000
END:STANDARD
BEGIN:DAYLIGHT
TZOFFSETFROM:+1000
TZOFFSETTO:+1100
TZNAME:AEDT
DTSTART:20151003T160000
END:DAYLIGHT
END:VTIMEZONE
BEGIN:VEVENT
DTSTART;VALUE=DATE:20150510
DTEND;VALUE=DATE:20150511
DTSTAMP:20210226T181152
CREATED:20150503T064239Z
LAST-MODIFIED:20150503T064239Z
UID:305-1431216000-1431302399@lakemacquarie243.com.au
SUMMARY:Fund raising BBQ at Bunnings Glendale to raise money for Prostrate Cancer
DESCRIPTION:
URL:https://lakemacquarie243.com.au/event/fund-raising-bbq-at-bunnings-glendale-to-raise-money-for-prostrate-cancer/
LOCATION:Bunnings Hardware Glendale
END:VEVENT
END:VCALENDAR