BEGIN:VCALENDAR
VERSION:2.0
PRODID:-//Lake Macquarie Freemasons - ECPv5.3.2.1//NONSGML v1.0//EN
CALSCALE:GREGORIAN
METHOD:PUBLISH
X-WR-CALNAME:Lake Macquarie Freemasons
X-ORIGINAL-URL:https://lakemacquarie243.com.au
X-WR-CALDESC:Events for Lake Macquarie Freemasons
BEGIN:VTIMEZONE
TZID:Australia/Sydney
BEGIN:STANDARD
TZOFFSETFROM:+1100
TZOFFSETTO:+1000
TZNAME:AEST
DTSTART:20180331T160000
END:STANDARD
BEGIN:DAYLIGHT
TZOFFSETFROM:+1000
TZOFFSETTO:+1100
TZNAME:AEDT
DTSTART:20181006T160000
END:DAYLIGHT
END:VTIMEZONE
BEGIN:VEVENT
DTSTART;TZID=Australia/Sydney:20181128T190000
DTEND;TZID=Australia/Sydney:20181128T220000
DTSTAMP:20210226T175641
CREATED:20180914T074822Z
LAST-MODIFIED:20180914T074822Z
UID:446-1543431600-1543442400@lakemacquarie243.com.au
SUMMARY:Cardiff-Speers Point Royal Arch Chapter
DESCRIPTION:Meets every fourth Wednesday of the month
URL:https://lakemacquarie243.com.au/event/cardiff-speers-point-royal-arch-chapter-2/
END:VEVENT
END:VCALENDAR