BEGIN:VCALENDAR
VERSION:2.0
PRODID:-//Lake Macquarie Freemasons - ECPv5.3.2.1//NONSGML v1.0//EN
CALSCALE:GREGORIAN
METHOD:PUBLISH
X-WR-CALNAME:Lake Macquarie Freemasons
X-ORIGINAL-URL:https://lakemacquarie243.com.au
X-WR-CALDESC:Events for Lake Macquarie Freemasons
BEGIN:VTIMEZONE
TZID:Australia/Sydney
BEGIN:STANDARD
TZOFFSETFROM:+1100
TZOFFSETTO:+1000
TZNAME:AEST
DTSTART:20150404T160000
END:STANDARD
BEGIN:DAYLIGHT
TZOFFSETFROM:+1000
TZOFFSETTO:+1100
TZNAME:AEDT
DTSTART:20151003T160000
END:DAYLIGHT
END:VTIMEZONE
BEGIN:VEVENT
DTSTART;TZID=Australia/Sydney:20150422T190000
DTEND;TZID=Australia/Sydney:20150422T220000
DTSTAMP:20210226T181527
CREATED:20150414T030600Z
LAST-MODIFIED:20150414T030600Z
UID:302-1429729200-1429740000@lakemacquarie243.com.au
SUMMARY:Cardiff Speers point Royal Arch Capter
DESCRIPTION:
URL:https://lakemacquarie243.com.au/event/cardiff-speers-point-royal-arch-capter/
LOCATION:Toronto Masonic Centre\, The Boulevard \, Toronto\, NSW\, 2283\, Australia
END:VEVENT
END:VCALENDAR