BEGIN:VCALENDAR
VERSION:2.0
PRODID:-//Lake Macquarie Freemasons - ECPv5.3.2.1//NONSGML v1.0//EN
CALSCALE:GREGORIAN
METHOD:PUBLISH
X-WR-CALNAME:Lake Macquarie Freemasons
X-ORIGINAL-URL:https://lakemacquarie243.com.au
X-WR-CALDESC:Events for Lake Macquarie Freemasons
BEGIN:VTIMEZONE
TZID:Australia/Sydney
BEGIN:STANDARD
TZOFFSETFROM:+1100
TZOFFSETTO:+1000
TZNAME:AEST
DTSTART:20190406T160000
END:STANDARD
BEGIN:DAYLIGHT
TZOFFSETFROM:+1000
TZOFFSETTO:+1100
TZNAME:AEDT
DTSTART:20191005T160000
END:DAYLIGHT
END:VTIMEZONE
BEGIN:VEVENT
DTSTART;TZID=Australia/Sydney:20191012T190000
DTEND;TZID=Australia/Sydney:20191012T210000
DTSTAMP:20210226T175703
CREATED:20190927T073247Z
LAST-MODIFIED:20190927T080518Z
UID:474-1570906800-1570914000@lakemacquarie243.com.au
SUMMARY:October meeting
DESCRIPTION:Lodge Elysian will be visiting and presenting the “Flight of the Winding Stairs”…a first for the Hunter area…
URL:https://lakemacquarie243.com.au/event/474/
END:VEVENT
END:VCALENDAR